BEGIN:VCALENDAR
VERSION:2.0
PRODID:-//Acme Widgets\, Inc.//NONSGML ExportToCalendar//EN
CALSCALE:GREGORIAN
BEGIN:VEVENT
DTSTAMP:20260424T091047Z
UID:f6160f78-a5dc-46f4-ba70-90d388404608
DTSTART:20260509T110000
DTEND:20260509T113000
DESCRIPTION:Inspection for 32 / 4-6 Castlereagh Street\, LIVERPOOL NSW 2170
LOCATION:32 / 4-6 Castlereagh Street\, LIVERPOOL NSW 2170
SUMMARY:32 / 4-6 Castlereagh Street\, LIVERPOOL NSW 2170
END:VEVENT
END:VCALENDAR
