BEGIN:VCALENDAR
VERSION:2.0
PRODID:-//Acme Widgets\, Inc.//NONSGML ExportToCalendar//EN
CALSCALE:GREGORIAN
BEGIN:VEVENT
DTSTAMP:20260424T091128Z
UID:8eb0389f-5864-4cf6-afe6-322316a9df47
DTSTART:20260516T110000
DTEND:20260516T113000
DESCRIPTION:Inspection for 32 / 4-6 Castlereagh Street\, LIVERPOOL NSW 2170
LOCATION:32 / 4-6 Castlereagh Street\, LIVERPOOL NSW 2170
SUMMARY:32 / 4-6 Castlereagh Street\, LIVERPOOL NSW 2170
END:VEVENT
END:VCALENDAR
