BEGIN:VCALENDAR
VERSION:2.0
PRODID:-//Acme Widgets\, Inc.//NONSGML ExportToCalendar//EN
CALSCALE:GREGORIAN
BEGIN:VEVENT
DTSTAMP:20260424T091128Z
UID:9beae5de-0da0-480a-bdaa-9d3910856306
DTSTART:20260425T110000
DTEND:20260425T113000
DESCRIPTION:Inspection for 32 / 4-6 Castlereagh Street\, LIVERPOOL NSW 2170
LOCATION:32 / 4-6 Castlereagh Street\, LIVERPOOL NSW 2170
SUMMARY:32 / 4-6 Castlereagh Street\, LIVERPOOL NSW 2170
END:VEVENT
END:VCALENDAR
