BEGIN:VCALENDAR
VERSION:2.0
PRODID:-//Acme Widgets\, Inc.//NONSGML ExportToCalendar//EN
CALSCALE:GREGORIAN
BEGIN:VEVENT
DTSTAMP:20260424T091047Z
UID:081c9725-0472-41ab-b074-1df0e0564dad
DTSTART:20260502T110000
DTEND:20260502T113000
DESCRIPTION:Inspection for 32 / 4-6 Castlereagh Street\, LIVERPOOL NSW 2170
LOCATION:32 / 4-6 Castlereagh Street\, LIVERPOOL NSW 2170
SUMMARY:32 / 4-6 Castlereagh Street\, LIVERPOOL NSW 2170
END:VEVENT
END:VCALENDAR
